BEGIN:VCALENDAR
VERSION:2.0
PRODID:-//LAGS Bremen - ECPv6.15.20//NONSGML v1.0//EN
CALSCALE:GREGORIAN
METHOD:PUBLISH
X-WR-CALNAME:LAGS Bremen
X-ORIGINAL-URL:https://www.lags-bremen.de
X-WR-CALDESC:Veranstaltungen für LAGS Bremen
REFRESH-INTERVAL;VALUE=DURATION:PT1H
X-Robots-Tag:noindex
X-PUBLISHED-TTL:PT1H
BEGIN:VTIMEZONE
TZID:Europe/Berlin
BEGIN:DAYLIGHT
TZOFFSETFROM:+0100
TZOFFSETTO:+0200
TZNAME:CEST
DTSTART:20230326T010000
END:DAYLIGHT
BEGIN:STANDARD
TZOFFSETFROM:+0200
TZOFFSETTO:+0100
TZNAME:CET
DTSTART:20231029T010000
END:STANDARD
BEGIN:DAYLIGHT
TZOFFSETFROM:+0100
TZOFFSETTO:+0200
TZNAME:CEST
DTSTART:20240331T010000
END:DAYLIGHT
BEGIN:STANDARD
TZOFFSETFROM:+0200
TZOFFSETTO:+0100
TZNAME:CET
DTSTART:20241027T010000
END:STANDARD
BEGIN:DAYLIGHT
TZOFFSETFROM:+0100
TZOFFSETTO:+0200
TZNAME:CEST
DTSTART:20250330T010000
END:DAYLIGHT
BEGIN:STANDARD
TZOFFSETFROM:+0200
TZOFFSETTO:+0100
TZNAME:CET
DTSTART:20251026T010000
END:STANDARD
END:VTIMEZONE
BEGIN:VEVENT
DTSTART;TZID=Europe/Berlin:20241123T150000
DTEND;TZID=Europe/Berlin:20241123T210000
DTSTAMP:20260423T055751
CREATED:20241117T185911Z
LAST-MODIFIED:20241117T185911Z
UID:12080-1732374000-1732395600@www.lags-bremen.de
SUMMARY:World Café Kiswahili - East-Africa
DESCRIPTION:Teilhabe von Menschen mit Behinderung im Globalen Süden \n15.00 Uhr Begrüßung\n16.00 Uhr Vortrag zu Integrationsarbeit/persönliche Assistenz in Ostafrika (Vivian Lange und Victor Luyali)\n17.00 Uhr Eröffnung des Buffets\nab 18.00 Live Musik mit Kamzola\nKiswahili crash Kurs mit Lucy\nKleine Modenschau mit Jacky \norganisiert in Zusammenarbeit mit Kijiwe cha Kiswahili e.V. \nin Kooperation mit LAG Selbsthilfe Bremen e.V.
URL:https://www.lags-bremen.de/termin/world-cafe-kiswahili-east-africa/
LOCATION:Afrika Netzwerk Bremen\, Bürgermeister-Smidt-Str. 47\, Bremen\, 28195
CATEGORIES:Teilhabe ohne Grenzen
END:VEVENT
END:VCALENDAR