BEGIN:VCALENDAR
VERSION:2.0
PRODID:-//LAGS Bremen - ECPv6.15.20//NONSGML v1.0//EN
CALSCALE:GREGORIAN
METHOD:PUBLISH
X-ORIGINAL-URL:https://www.lags-bremen.de
X-WR-CALDESC:Veranstaltungen für LAGS Bremen
REFRESH-INTERVAL;VALUE=DURATION:PT1H
X-Robots-Tag:noindex
X-PUBLISHED-TTL:PT1H
BEGIN:VTIMEZONE
TZID:Europe/Berlin
BEGIN:DAYLIGHT
TZOFFSETFROM:+0100
TZOFFSETTO:+0200
TZNAME:CEST
DTSTART:20230326T010000
END:DAYLIGHT
BEGIN:STANDARD
TZOFFSETFROM:+0200
TZOFFSETTO:+0100
TZNAME:CET
DTSTART:20231029T010000
END:STANDARD
BEGIN:DAYLIGHT
TZOFFSETFROM:+0100
TZOFFSETTO:+0200
TZNAME:CEST
DTSTART:20240331T010000
END:DAYLIGHT
BEGIN:STANDARD
TZOFFSETFROM:+0200
TZOFFSETTO:+0100
TZNAME:CET
DTSTART:20241027T010000
END:STANDARD
BEGIN:DAYLIGHT
TZOFFSETFROM:+0100
TZOFFSETTO:+0200
TZNAME:CEST
DTSTART:20250330T010000
END:DAYLIGHT
BEGIN:STANDARD
TZOFFSETFROM:+0200
TZOFFSETTO:+0100
TZNAME:CET
DTSTART:20251026T010000
END:STANDARD
END:VTIMEZONE
BEGIN:VEVENT
DTSTART;TZID=Europe/Berlin:20241210T150000
DTEND;TZID=Europe/Berlin:20241210T170000
DTSTAMP:20260423T013637
CREATED:20240913T064803Z
LAST-MODIFIED:20240913T064803Z
UID:11887-1733842800-1733850000@www.lags-bremen.de
SUMMARY:Treffpunkt Sehbehinderte
DESCRIPTION:Gesprächskreis mit Martina Reicksmann (BSVB e.V.)
URL:https://www.lags-bremen.de/termin/treffpunkt-sehbehinderte-3/
LOCATION:Teilhabetreff Bremen-Nord\, Bürgermeister-Wittgenstein-Straße 2\, Bremen\, 28757\, Deutschland
END:VEVENT
END:VCALENDAR