BEGIN:VCALENDAR
VERSION:2.0
PRODID:-//LAGS Bremen - ECPv6.15.20//NONSGML v1.0//EN
CALSCALE:GREGORIAN
METHOD:PUBLISH
X-ORIGINAL-URL:https://www.lags-bremen.de
X-WR-CALDESC:Veranstaltungen für LAGS Bremen
REFRESH-INTERVAL;VALUE=DURATION:PT1H
X-Robots-Tag:noindex
X-PUBLISHED-TTL:PT1H
BEGIN:VTIMEZONE
TZID:Europe/Berlin
BEGIN:DAYLIGHT
TZOFFSETFROM:+0100
TZOFFSETTO:+0200
TZNAME:CEST
DTSTART:20240331T010000
END:DAYLIGHT
BEGIN:STANDARD
TZOFFSETFROM:+0200
TZOFFSETTO:+0100
TZNAME:CET
DTSTART:20241027T010000
END:STANDARD
BEGIN:DAYLIGHT
TZOFFSETFROM:+0100
TZOFFSETTO:+0200
TZNAME:CEST
DTSTART:20250330T010000
END:DAYLIGHT
BEGIN:STANDARD
TZOFFSETFROM:+0200
TZOFFSETTO:+0100
TZNAME:CET
DTSTART:20251026T010000
END:STANDARD
BEGIN:DAYLIGHT
TZOFFSETFROM:+0100
TZOFFSETTO:+0200
TZNAME:CEST
DTSTART:20260329T010000
END:DAYLIGHT
BEGIN:STANDARD
TZOFFSETFROM:+0200
TZOFFSETTO:+0100
TZNAME:CET
DTSTART:20261025T010000
END:STANDARD
END:VTIMEZONE
BEGIN:VEVENT
DTSTART;TZID=Europe/Berlin:20250314T150000
DTEND;TZID=Europe/Berlin:20250314T170000
DTSTAMP:20260422T193842
CREATED:20250310T083452Z
LAST-MODIFIED:20250310T084437Z
UID:12329-1741964400-1741971600@www.lags-bremen.de
SUMMARY:#Liegenddemo
DESCRIPTION:Für mehr Aufklärung\, Forschung und Engagement ME/CFS \nBitte geh für uns zur #Liegenddemo\nWir sind selbst zu krank dafür! \nMarktplatz vor der Bürgerschaft \n \nMyalgische Enzephalomyelitis/Chronisches Fatigue-Syndrom (ME/CFS) ist eine multisystemische und schwerwiegende chronische Krankheit\, die durch extreme\, unverhältnismäßige Erschöpfungszustände und eine Vielzahl anderer Symptome charakterisiert ist. Diese Symptome verschlechtern sich typischerweise nach schon leichter körperlicher oder geistiger Anstrengung und verbessern sich nicht durch Ruhe. Zu den häufigsten Beschwerden zählen anhaltende Erschöpfung\, Schlafstörungen\, Muskel- und Gelenkschmerzen\, kognitive Beeinträchtigungen und orthostatische Intoleranz\, die sich in Schwindel und Ohnmacht äußert. Die genaue Ursache von ME/CFS ist noch unbekannt\, doch es wird angenommen\, dass eine Kombination aus genetischen\, infektiösen und Umweltfaktoren eine Rolle spielt. Die Diagnose basiert auf dem Ausschluss anderer Erkrankungen und spezifischen diagnostischen Kriterien\, da es bisher keine eindeutigen Labor-Tests gibt. Die privatfinanzierte Behandlung konzentriert sich hauptsächlich auf die Linderung der Symptome und die Verbesserung der Lebensqualität der Betroffenen\, da es derzeit keine Heilung gibt. \nMehr zu ME/CFS auf der Webseite von Inklusion Nord
URL:https://www.lags-bremen.de/termin/liegenddemo/
LOCATION:Marktplatz\, Am Markt 20\, Bremen\, 28195
END:VEVENT
BEGIN:VEVENT
DTSTART;TZID=Europe/Berlin:20250315T100000
DTEND;TZID=Europe/Berlin:20250315T160000
DTSTAMP:20260422T193842
CREATED:20250310T084121Z
LAST-MODIFIED:20250310T084121Z
UID:12335-1742032800-1742054400@www.lags-bremen.de
SUMMARY:Inklusion Nord 2025: Der Fachtag
DESCRIPTION:DIE UNSICHTBAREN: Psychische Erkrankungen • Suchterkrankungen • Seelische Gesundheit \nGenerell gibt es für den Fachtag keine vorherige Anmeldepflicht\, doch bitten wir alle Teilnehmer mit Hilfsbedarfe und Allergien unsere Anmeldungen zu nutzen. Nur so können wir garantieren\, dass Euer Anliegen während des Fachtages berücksichtigt werden kann. \nDieser Link führt zur Anmeldung \n  \nDie drei Hauptthemen des Fachtages\nDie Bedeutung der seelischen Gesundheit und deren Auswirkungen auf das individuelle und gesellschaftliche Wohlbefinden kann nicht hoch genug eingeschätzt werden. Psychische Erkrankungen wie Depressionen oder Angststörungen beeinträchtigen das Leben vieler Menschen. Ohne angemessene Behandlung können sie zu langfristigen Problemen führen. Suchterkrankungen\, die oft mit psychischen Störungen einhergehen\, stellen eine weitere Herausforderung dar. Sie betreffen nicht nur den Einzelnen\, sondern auch dessen Umfeld und die Gesellschaft als Ganzes. \nDer Fokus auf diese Themen während unseres Fachtages ist daher von großer Relevanz. Er bietet eine Plattform für Experten aus verschiedenen Bereichen\, um Wissen auszutauschen. Neueste Forschungsergebnisse werden diskutiert und innovative Ansätze zur Verbesserung der seelischen Gesundheit entwickelt. Die Integration von Präventionsmaßnahmen\, die Förderung der Resilienz und die Verbesserung der Versorgungsstrukturen sind dabei zentrale Aspekte. \nDurch Vorträge und Diskussionsrunden können Teilnehmer neue Perspektiven gewinnen. Sie vertiefen ihr Verständnis für die Komplexität dieser Themen. Der Austausch zwischen Fachleuten und Betroffenen kann zudem dazu beitragen\, Stigmatisierung abzubauen. Er schärft das Bewusstsein in der Öffentlichkeit. Letztlich zielt ein solcher Fachtag darauf ab\, Lösungsansätze zu erarbeiten. Diese führen zu einer gesünderen und resilienteren Gesellschaft. \n\n\nPsychische Erkrankung im Zusammenhang mit nicht sichtbaren Behinderungen\n\n\nKomplexität der psychischen Erkrankungen\n\n\nWelche psychischen Erkrankungen kommen am häufigsten vor?\n\n\n 
URL:https://www.lags-bremen.de/termin/inklusion-nord-2025-der-fachtag/
LOCATION:Gustav-Heinemann Bürgerhaus\, Kirchheide 49\, Bremen\, 28757
END:VEVENT
BEGIN:VEVENT
DTSTART;TZID=Europe/Berlin:20250316T180000
DTEND;TZID=Europe/Berlin:20250319T170000
DTSTAMP:20260422T193842
CREATED:20240706T101820Z
LAST-MODIFIED:20250311T094107Z
UID:11678-1742148000-1742403600@www.lags-bremen.de
SUMMARY:Ständiger Ausschuss in Bremen
DESCRIPTION:StAu Tagung der BAG Selbsthilfe in Bremen \n50 Jahre LAGS und kein bisschen leise! \nSonntag\, 16.03.2025: \nbis 18.00              Ankommen im Dorint Hotel Bremen \nab 18.30               Treffen vor dem Hotel und gemeinsamer Ortswechsel zum Abendessen ( „Beck´s Mühle“) \n  \nMontag\, 17.03.2025 im Dorint Hotel (1. OG\, Raum „Zürich 1“): \n09.15     Ankommen \n\nBegrüßung und Vorstellung\nOrganisatorisches\n\n09.30     Einführung zu 50 Jahren LAGS Bremen anhand des Stadtführers „Bremen barrierefrei“ \n10.30     Pause \n11.00     Bericht der BAG Selbsthilfe (Dr. Martin Danner) zur Lage nach der Bundestagswahl\, Rundgang durch die Länder (Finanzen\,  Sachstand Niedersachsen u. Thüringen)\, Planung der nächsten StAus (Herbst 2025\, Frühjahr + Herbst 2026\, Format: Präsenz\, online?) \n12.30     Mittagspause \n13.15     Bericht zur Gesundheitspolitik (Dr. Martin Danner) u.a. zur 20 h-Förderung\, Unabhängige Patient:innenberatung (dazu angefragt: Vertreterin der Bremer Krankenkassen) \n14.15     Pause und Ortswechsel ins Kommunalkino „City 46“ (gegenüber vom Hotel) \n„Cinema Inklusivo“: Präsentation und Diskussion zu Inklusion im und mit dem Medium Film  \n14.45     Ankommen \nGrußwort Dr. Claudia Schilling (Senatorin für Arbeit\, Soziales\, Jugend und Integration) \n15.15     Vorstellung der (Zusammen-)Arbeit der „Compagnons – Cooperative inklusiver Film“ und der LAGS Bremen anhand von Film-Beispielen und Austausch mit Film-Team und Akteuren \n16.30     Ende und Ortswechsel zum „KWADRAT“/Werkstatt Bremen – Martinshof \n17.00     Ausstellungseröffnung „Selbsthilfe und Migration“ im „KWADRAT“  \n18.00     Abendessen in einem nahe gelegenen Restaurant\, ggf. mit Gästen \n  \nEnde des 1. Tages  \nDienstag\, 18.03.2025 Beginn im Dorint Hotel (1. OG\, Raum „Zürich 1“): \n09.15     Austausch mit dem Behindertenbeauftragten des Landes Bremen u.a. zu Barrierefreiheit im Gesundheitswesen und „Wunsch“-Themen der Teilnehmenden \n10.00     Kaffeepause \n10.15     Diskussion und Verabschiedung „Bremer Resolution“ \n11.15     Behindertenpolitischer Spaziergang zum Landtagsgebäude\, dem Haus der Bremischen Bürgerschaft (Am  Markt 20) \n12.00     Eintreffen im Haus der Bremischen Bürgerschaft \nBegrüßung durch die Präsidentin der Bremischen Bürgerschaft mit Imbiss + Austausch \n14.00     Austausch mit Bürgerschaftsabgeordneten und ggf. weiteren Gästen zu aktuellen Themen \n15.00     Kaffeepause \n15.15     Austausch mit Dr. Claudia Schilling  (Senatorin für Arbeit\, Soziales\, Jugend und Integration) und ggf. Übergabe der „Bremer Resolution“  \n16.15     Kaffeepause \n16.30     Landesübergreifende (Projekt-)Zusammenarbeit der LAGen und der BAG \n\nMigration/Flucht u. Behinderung\nGlobale Teilhabe mit Ausblick auf Bremer Fachtag 31.03. und GDS (2./3.04.) in Berlin\n… ggf. weitere Themen\n\n17.30 Uhr Ende des 2. Tages \nAbendgestaltung nach Wunsch \n  \nMittwoch\, 19.03.2025 im Dorint Hotel (1.OG\, Raum „Zürich 1“): \nSchwerpunkt:   Patientenbeteiligung in den Ländern / Finanzierung Koordinierungsstellen \n09.30     Vorstellung Befragung M.-V. / Übertragbarkeit auf andere BL\, Diskussion etc. \n10.30     Pause \n11.00     Finanzierung der Koordinierungsstellen \n11.45     Fazit Frühjahrs-StAu\, Themenspeicher\, Verabredungen und Abschied \n12.30     Mittagsimbiss + Abreise \n  \nEnde des Frühjahr-StAus 2025
URL:https://www.lags-bremen.de/termin/staendiger-ausschuss-in-bremen/
LOCATION:Dorint Hotel\, Hillmannplatz 13-15\, Bremen\, Bundesstaat wählen:\, 28195\, Germany
END:VEVENT
BEGIN:VEVENT
DTSTART;TZID=Europe/Berlin:20250317T140000
DTEND;TZID=Europe/Berlin:20250317T163000
DTSTAMP:20260422T193842
CREATED:20250311T094705Z
LAST-MODIFIED:20250311T094705Z
UID:12346-1742220000-1742229000@www.lags-bremen.de
SUMMARY:Cinema inklusivo
DESCRIPTION:Präsentation und Diskussion zu Inklusion im und mit dem Medium Film\n \nim Rahmen der StAu (ständiger Ausschuss) der Arbeitsgemeinschaften Selbsthilfe Tagung in Bremen \n14.45     Begrüßung/Empfang im City 46 \nGrußwort Dr. Claudia Schilling (Senatorin für Arbeit\, Soziales\, Jugend und Integration) \n15.15     Vorstellung der (Zusammen-)Arbeit der „Compagnons – Cooperative inklusiver Film“ und der LAGS Bremen anhand von Film-Beispielen und Austausch mit Film-Team und Akteuren \nWebsite der Compagnons
URL:https://www.lags-bremen.de/termin/cinema-inklusivo/
LOCATION:City 46\, Birkenstr. 1\, Bremen\, 28196
END:VEVENT
BEGIN:VEVENT
DTSTART;TZID=Europe/Berlin:20250317T170000
DTEND;TZID=Europe/Berlin:20250317T183000
DTSTAMP:20260422T193842
CREATED:20250228T085958Z
LAST-MODIFIED:20250228T090402Z
UID:12315-1742230800-1742236200@www.lags-bremen.de
SUMMARY:Ausstellung interkulturelle Selbsthilfe
DESCRIPTION:Wanderausstellung “Migration und Selbsthilfe” von der Bundesarbeitsgemeinschaft Selbsthilfe
URL:https://www.lags-bremen.de/termin/ausstellung-interkulturelle-selbsthilfe/
LOCATION:KWADRAT\, Wilhelm-Kaisen-Brücke 4\, Bremen\, 28199
END:VEVENT
BEGIN:VEVENT
DTSTART;TZID=Europe/Berlin:20250318T150000
DTEND;TZID=Europe/Berlin:20250318T170000
DTSTAMP:20260422T193842
CREATED:20250124T095753Z
LAST-MODIFIED:20250310T082807Z
UID:12280-1742310000-1742317200@www.lags-bremen.de
SUMMARY:Treffpunkt Sehbehinderte
DESCRIPTION:Gesprächskreis für Menschen mit Sehbeinträchtigung
URL:https://www.lags-bremen.de/termin/treffpunkt-sehbehinderte-5/
LOCATION:Teilhabetreff Bremen-Nord\, Bürgermeister-Wittgenstein-Straße 2\, Bremen\, 28757\, Deutschland
END:VEVENT
BEGIN:VEVENT
DTSTART;TZID=Europe/Berlin:20250319T080000
DTEND;TZID=Europe/Berlin:20250319T170000
DTSTAMP:20260422T193842
CREATED:20240801T081505Z
LAST-MODIFIED:20240801T081505Z
UID:11765-1742371200-1742403600@www.lags-bremen.de
SUMMARY:Fachforum Gesundheit
DESCRIPTION:
URL:https://www.lags-bremen.de/termin/fachforum-gesundheit/
LOCATION:Bürgerhaus Hemelingen\, Godehardstr. 4\, Bremen\, 28309
END:VEVENT
BEGIN:VEVENT
DTSTART;TZID=Europe/Berlin:20250319T173000
DTEND;TZID=Europe/Berlin:20250319T193000
DTSTAMP:20260422T193842
CREATED:20250124T100515Z
LAST-MODIFIED:20250310T082726Z
UID:12292-1742405400-1742412600@www.lags-bremen.de
SUMMARY:Keine Angst vor Hörgeräten
DESCRIPTION:Selbsthilfegruppe mit Renate Horning (HBB e.V.)
URL:https://www.lags-bremen.de/termin/keine-angst-vor-hoergeraeten-3/
LOCATION:Teilhabetreff Bremen-Nord\, Bürgermeister-Wittgenstein-Straße 2\, Bremen\, 28757\, Deutschland
END:VEVENT
BEGIN:VEVENT
DTSTART;TZID=Europe/Berlin:20250325T150000
DTEND;TZID=Europe/Berlin:20250325T170000
DTSTAMP:20260422T193842
CREATED:20250124T100209Z
LAST-MODIFIED:20250124T100744Z
UID:12288-1742914800-1742922000@www.lags-bremen.de
SUMMARY:Teilhabeberatung nach Termin
DESCRIPTION:Bitte melden Sie sich zur Beratung vorher an bei\nMartina Reicksmann\, Telefon: 0421 – 223 11 36
URL:https://www.lags-bremen.de/termin/teilhabeberatung-nach-termin-3/
LOCATION:Teilhabetreff Bremen-Nord\, Bürgermeister-Wittgenstein-Straße 2\, Bremen\, 28757\, Deutschland
CATEGORIES:EUTB
END:VEVENT
BEGIN:VEVENT
DTSTART;TZID=Europe/Berlin:20250325T150000
DTEND;TZID=Europe/Berlin:20250325T173000
DTSTAMP:20260422T193842
CREATED:20241217T224624Z
LAST-MODIFIED:20250311T095411Z
UID:12200-1742914800-1742923800@www.lags-bremen.de
SUMMARY:Arbeitskreis Protest
DESCRIPTION:Monatliche Sitzung des Arbeitskreis Bremer Protest mit vielen Teilnehmenden aus der Behinderten Mitbestimmung und Selbsthilfe \nWaller Heerstraße 107\, 28217 Bremen – ACHTUNG: NEUER ORT
URL:https://www.lags-bremen.de/termin/arbeitskreis-protest-5/
LOCATION:Waller Heerstr. 107\, Waller Heerstr. 107\, Bremen\, 28217
CATEGORIES:AK Protest
END:VEVENT
BEGIN:VEVENT
DTSTART;TZID=Europe/Berlin:20250331T103000
DTEND;TZID=Europe/Berlin:20250331T173000
DTSTAMP:20260422T193842
CREATED:20240706T101600Z
LAST-MODIFIED:20240706T102334Z
UID:11676-1743417000-1743442200@www.lags-bremen.de
SUMMARY:Fachtag zur Teilhabe in der Entwicklungszusammenarbeit
DESCRIPTION:LAGS in Zusammenarbeit mit dem Bremer entwicklungspolitischen Netzwerk BeN \nin der Bremer Landesvertretung in Berlin \n50 Jahre LAGS – und kein bischen leise!
URL:https://www.lags-bremen.de/termin/fachtag-zur-teilhabe-in-der-entwicklungszusammenarbeit/
CATEGORIES:Teilhabe ohne Grenzen
END:VEVENT
END:VCALENDAR