BEGIN:VCALENDAR
VERSION:2.0
PRODID:-//LAGS Bremen - ECPv6.15.20//NONSGML v1.0//EN
CALSCALE:GREGORIAN
METHOD:PUBLISH
X-WR-CALNAME:LAGS Bremen
X-ORIGINAL-URL:https://www.lags-bremen.de
X-WR-CALDESC:Veranstaltungen für LAGS Bremen
REFRESH-INTERVAL;VALUE=DURATION:PT1H
X-Robots-Tag:noindex
X-PUBLISHED-TTL:PT1H
BEGIN:VTIMEZONE
TZID:Europe/Berlin
BEGIN:DAYLIGHT
TZOFFSETFROM:+0100
TZOFFSETTO:+0200
TZNAME:CEST
DTSTART:20240331T010000
END:DAYLIGHT
BEGIN:STANDARD
TZOFFSETFROM:+0200
TZOFFSETTO:+0100
TZNAME:CET
DTSTART:20241027T010000
END:STANDARD
BEGIN:DAYLIGHT
TZOFFSETFROM:+0100
TZOFFSETTO:+0200
TZNAME:CEST
DTSTART:20250330T010000
END:DAYLIGHT
BEGIN:STANDARD
TZOFFSETFROM:+0200
TZOFFSETTO:+0100
TZNAME:CET
DTSTART:20251026T010000
END:STANDARD
BEGIN:DAYLIGHT
TZOFFSETFROM:+0100
TZOFFSETTO:+0200
TZNAME:CEST
DTSTART:20260329T010000
END:DAYLIGHT
BEGIN:STANDARD
TZOFFSETFROM:+0200
TZOFFSETTO:+0100
TZNAME:CET
DTSTART:20261025T010000
END:STANDARD
END:VTIMEZONE
BEGIN:VEVENT
DTSTART;TZID=Europe/Berlin:20250505T100000
DTEND;TZID=Europe/Berlin:20250505T140000
DTSTAMP:20260422T161504
CREATED:20240801T081104Z
LAST-MODIFIED:20250331T063704Z
UID:11763-1746439200-1746453600@www.lags-bremen.de
SUMMARY:Europäischer Protesttag
DESCRIPTION:Am 5. Mai ist der Europäische Protesttag zur Gleichstellung von Menschen mit Behinderung. Die LAGS plant mit dem Arbeitskreis Protest und der Aktion Mensch eine eigene Aktion! \n12.00 Uhr Bahnhofplatz Bremen (Sammeln ab 11.30 Uhr) \n12.30 Uhr Domsheide (Zwischenkundgebung) \n13.00 Uhr Kundgebung Marktplatz Bremen \n50 JAHRE LAGS – und kein bisschen leise! \nPlakat als PDF zum Download
URL:https://www.lags-bremen.de/termin/europaeischer-protesttag/
CATEGORIES:AK Protest
END:VEVENT
BEGIN:VEVENT
DTSTART;TZID=Europe/Berlin:20250510T140000
DTEND;TZID=Europe/Berlin:20250510T170000
DTSTAMP:20260422T161504
CREATED:20250310T082513Z
LAST-MODIFIED:20250310T082513Z
UID:12327-1746885600-1746896400@www.lags-bremen.de
SUMMARY:Quartiersgespräch zu Spiel\, Sport und für Barrierefreiheit
DESCRIPTION:Quartiersgespräch mit Mitmachaktionen und lebendiger Waller Mitte\, sowie Tante Martin. Mit Gesprächsrunde zu Themen aus dem Stadtteil unter anderem Barrierefreiheit. Initiativen stellen sich vor.
URL:https://www.lags-bremen.de/termin/quartiersgespraech-zu-spiel-sport-und-fuer-barrierefreiheit/
LOCATION:Waller Mitte\, Vegesacker Str. 84A\, Bremen\, 28217\, Deutschland
END:VEVENT
BEGIN:VEVENT
DTSTART;TZID=Europe/Berlin:20250531T170000
DTEND;TZID=Europe/Berlin:20250531T233000
DTSTAMP:20260422T161504
CREATED:20250329T115035Z
LAST-MODIFIED:20250329T115356Z
UID:12439-1748710800-1748734200@www.lags-bremen.de
SUMMARY:Kulturfest der Frauen - Sona Jobarteh
DESCRIPTION:Das 2. Kulturfest der Frauen am 31.05.2025 in der Aladin Music-Hall Bremen.\nFreut euch auf vielseitige Themen\, spannende Rednerinnen\, Livemusik und eine After-Party! Alle Informationen\, das Programm\, Links zu den Tickets (€ 39\,70 bzw. € 34\,20) und viele weitere Infos zum und rund um das Kulturfest der Frauen\, unter Lundu-ev.de!  \nAb 17 Uhr Podiumsgäste \nab 20 Uhr Sona Jobarteh\n(Afrikas erste weibliche Griot-Kora-Virtousin und hervorragende Sängerin und Komponistin\, die traditionelle Musik\, Blues und Afropop mit beeindruckender Wirkung verbindet.) \nab 00 Uhr After Party \nTickets lundu-ev.de und Aladin Ticket-Shop
URL:https://www.lags-bremen.de/termin/kulturfest-der-frauen-sona-jobarteh/
LOCATION:Aladin Music Hall\, Hannoversche Str. 11\, Bremen\, 28309
END:VEVENT
END:VCALENDAR