BEGIN:VCALENDAR
VERSION:2.0
PRODID:-//LAGS Bremen - ECPv6.15.20//NONSGML v1.0//EN
CALSCALE:GREGORIAN
METHOD:PUBLISH
X-WR-CALNAME:LAGS Bremen
X-ORIGINAL-URL:https://www.lags-bremen.de
X-WR-CALDESC:Veranstaltungen für LAGS Bremen
REFRESH-INTERVAL;VALUE=DURATION:PT1H
X-Robots-Tag:noindex
X-PUBLISHED-TTL:PT1H
BEGIN:VTIMEZONE
TZID:Europe/Berlin
BEGIN:DAYLIGHT
TZOFFSETFROM:+0100
TZOFFSETTO:+0200
TZNAME:CEST
DTSTART:20220327T010000
END:DAYLIGHT
BEGIN:STANDARD
TZOFFSETFROM:+0200
TZOFFSETTO:+0100
TZNAME:CET
DTSTART:20221030T010000
END:STANDARD
BEGIN:DAYLIGHT
TZOFFSETFROM:+0100
TZOFFSETTO:+0200
TZNAME:CEST
DTSTART:20230326T010000
END:DAYLIGHT
BEGIN:STANDARD
TZOFFSETFROM:+0200
TZOFFSETTO:+0100
TZNAME:CET
DTSTART:20231029T010000
END:STANDARD
BEGIN:DAYLIGHT
TZOFFSETFROM:+0100
TZOFFSETTO:+0200
TZNAME:CEST
DTSTART:20240331T010000
END:DAYLIGHT
BEGIN:STANDARD
TZOFFSETFROM:+0200
TZOFFSETTO:+0100
TZNAME:CET
DTSTART:20241027T010000
END:STANDARD
END:VTIMEZONE
BEGIN:VEVENT
DTSTART;TZID=Europe/Berlin:20230228T150000
DTEND;TZID=Europe/Berlin:20230228T173000
DTSTAMP:20260423T002231
CREATED:20221124T083133Z
LAST-MODIFIED:20221124T083133Z
UID:9754-1677596400-1677605400@www.lags-bremen.de
SUMMARY:Sitzung AK Bremer Protest
DESCRIPTION:Monatliches Treffen der Mitglieder vom Arbeitskreis Bremer Protest.
URL:https://www.lags-bremen.de/termin/sitzung-ak-bremer-protest-2/
LOCATION:Waller Heerstr. 59\, Waller Heerstraße 59\, Bremen\, 28217\, Deutschland
CATEGORIES:AK Protest
END:VEVENT
END:VCALENDAR